BEGIN:VCALENDAR
VERSION:2.0
PRODID:-//ChamberMaster//Event Calendar 2.0//EN
METHOD:PUBLISH
X-PUBLISHED-TTL:P3D
REFRESH-INTERVAL:P3D
CALSCALE:GREGORIAN
BEGIN:VEVENT
DTSTART:20160312T163000Z
DTEND:20160312T180000Z
X-MICROSOFT-CDO-ALLDAYEVENT:FALSE
SUMMARY:Hope House Super Chef Showdown
DESCRIPTION:Getting your taste buds ready for it's time for the 5th annual Super Chef Showdown showcasing our community chefs! This fundraiser benefits Hope House so come out and enjoy the food and music.\n\nPlease tell all your friends and neighbors and come out to support this great cause.
X-ALT-DESC;FMTTYPE=text/html:<span style="font-size:12px\;"><span style="font-family: arial\;">Getting your taste buds ready for it&#39\;s time for the 5th annual Super Chef Showdown showcasing our community chefs! This fundraiser benefits Hope House so come out and enjoy the food and music.<br />\nPlease tell all your friends and neighbors and come out to support this great cause.</span></span>
LOCATION:First Methodist MAC Blairsville Ga 30512
UID:e.256.49463
SEQUENCE:3
DTSTAMP:20260421T021826Z
URL:https://members.visitblairsvillega.com/events/details/hope-house-super-chef-showdown-03-12-2016-49463
END:VEVENT

END:VCALENDAR
