BEGIN:VCALENDAR
VERSION:2.0
PRODID:-//ChamberMaster//Event Calendar 2.0//EN
METHOD:PUBLISH
X-PUBLISHED-TTL:P3D
REFRESH-INTERVAL:P3D
CALSCALE:GREGORIAN
BEGIN:VEVENT
DTSTART:20150627T230000Z
DTEND:20150628T023000Z
X-MICROSOFT-CDO-ALLDAYEVENT:FALSE
SUMMARY:Hot Summer Nights
DESCRIPTION:Live Music and Glass Blowing Demonstrations. Call 828.389.8847 to make reservations. $10 per person includes admission\, parking and raffle for handmade blown glass by master glass artist David Goldhagen
X-ALT-DESC;FMTTYPE=text/html:Live Music and Glass Blowing Demonstrations. Call 828.389.8847 to make reservations. $10 per person includes admission\, parking and raffle for handmade blown glass by master glass artist David Goldhagen
LOCATION:Goldhagen Art Glass Studio
UID:e.256.40339
SEQUENCE:3
DTSTAMP:20260423T165232Z
URL:https://members.visitblairsvillega.com/events/details/hot-summer-nights-06-27-2015-40339
END:VEVENT

END:VCALENDAR
