BEGIN:VCALENDAR
VERSION:2.0
PRODID:-//ChamberMaster//Event Calendar 2.0//EN
METHOD:PUBLISH
X-PUBLISHED-TTL:P3D
REFRESH-INTERVAL:P3D
CALSCALE:GREGORIAN
BEGIN:VEVENT
DTSTART:20160702T230000Z
DTEND:20160703T023000Z
X-MICROSOFT-CDO-ALLDAYEVENT:FALSE
SUMMARY:Hot Summer Nights
DESCRIPTION:Now in our 14th year\, Hot Summer Nights is a FABULOUS evening of entertainment featuring live musical performances by GNARLEY FINGERS. While relaxing and surrounded by great music\, you will be dazzled by the internationally acclaimed glass blowing artist David Goldhagen as he demonstrates the fine art of glass blowing! Also available will be a tantalizing selection of gourmet desserts!
X-ALT-DESC;FMTTYPE=text/html:Now in our 14th year\, Hot Summer Nights is a FABULOUS evening of entertainment featuring live musical&nbsp\;performances by GNARLEY FINGERS.&nbsp\;While relaxing and surrounded by great music\, you will be&nbsp\;dazzled by the internationally acclaimed glass blowing artist&nbsp\;David Goldhagen as he demonstrates the fine art of glass blowing! Also available will be a tantalizing&nbsp\;selection of gourmet desserts!
LOCATION:Goldhagen Art Studio 7 Goldhagen Studio Dr Hayesville\, NC
UID:e.256.52650
SEQUENCE:3
DTSTAMP:20260420T183752Z
URL:https://members.visitblairsvillega.com/events/details/hot-summer-nights-07-02-2016-52650
END:VEVENT

END:VCALENDAR
