BEGIN:VCALENDAR
VERSION:2.0
PRODID:-//ChamberMaster//Event Calendar 2.0//EN
METHOD:PUBLISH
X-PUBLISHED-TTL:P3D
REFRESH-INTERVAL:P3D
CALSCALE:GREGORIAN
BEGIN:VEVENT
DTSTART:20150704T230000Z
DTEND:20150705T023000Z
X-MICROSOFT-CDO-ALLDAYEVENT:FALSE
SUMMARY:Hot Summer Nights
DESCRIPTION:Live Music and Glass Blowing Demonstrations. Watch master glass artist David Goldhagen craft fine art glass using ancient glassblowing techniques. Local favorite band\, Gnarley Fingers will be performing. July 4 event is our biggest event\, so call in advance for seating reservations. $10 per person includes admission\, parking and raffle ticket for chance to win hand blown art glass piece.
X-ALT-DESC;FMTTYPE=text/html:Live Music and Glass Blowing Demonstrations. Watch master glass artist David Goldhagen craft fine art glass using ancient glassblowing techniques. Local favorite band\, Gnarley Fingers will be performing. July 4 event is our biggest event\, so call in advance for seating reservations. $10 per person includes admission\, parking and raffle ticket for chance to win hand blown art glass piece.
LOCATION:Goldhagen Art Glass Studio\, Hayesville\, NC
UID:e.256.40340
SEQUENCE:3
DTSTAMP:20260423T151015Z
URL:https://members.visitblairsvillega.com/events/details/hot-summer-nights-07-04-2015-40340
END:VEVENT

END:VCALENDAR
