BEGIN:VCALENDAR
VERSION:2.0
PRODID:-//ChamberMaster//Event Calendar 2.0//EN
METHOD:PUBLISH
X-PUBLISHED-TTL:P3D
REFRESH-INTERVAL:P3D
CALSCALE:GREGORIAN
BEGIN:VEVENT
DTSTART:20150801T230000Z
DTEND:20150802T023000Z
X-MICROSOFT-CDO-ALLDAYEVENT:FALSE
SUMMARY:Hot Summer Nights
DESCRIPTION:Live music and glass blowing demonstrations by master glass artist\, David Goldhagen. Watch David as he creates fine art glass using ancient glass blowing techniques. Live music provided by John Emil. Reservations are recommended. $10 per person includes admission\, parking and raffle for chance to win fine art glass made by David
X-ALT-DESC;FMTTYPE=text/html:Live music and glass blowing demonstrations by master glass artist\, David Goldhagen. Watch David as he creates fine art glass using ancient glass blowing techniques. Live music provided by John Emil. Reservations are recommended. $10 per person includes admission\, parking and raffle for chance to win fine art glass made by David
LOCATION:Goldhagen Art Glass Studio\, Hayesville\, NC
UID:e.256.40341
SEQUENCE:3
DTSTAMP:20260423T133802Z
URL:https://members.visitblairsvillega.com/events/details/hot-summer-nights-08-01-2015-40341
END:VEVENT

END:VCALENDAR
