BEGIN:VCALENDAR
VERSION:2.0
PRODID:-//ChamberMaster//Event Calendar 2.0//EN
METHOD:PUBLISH
X-PUBLISHED-TTL:P3D
REFRESH-INTERVAL:P3D
CALSCALE:GREGORIAN
BEGIN:VEVENT
DTSTART:20150919T230000Z
DTEND:20150920T023000Z
X-MICROSOFT-CDO-ALLDAYEVENT:FALSE
SUMMARY:Hot Summer Nights
DESCRIPTION:Live Music and Glassblowing Demonstrations. Watch master glass artist David Goldhagen sculpt fine art glass using ancient glass blowing techniques. Music will be provided by Wyatt Espalin. Reservations are recommended. $10 per person includes admission\, parking and a raffle ticket for a chance to win a piece of art glass
X-ALT-DESC;FMTTYPE=text/html:Live Music and Glassblowing Demonstrations. Watch master glass artist David Goldhagen sculpt fine art glass using ancient glass blowing techniques. Music will be provided by Wyatt Espalin. Reservations are recommended. $10 per person includes admission\, parking and a raffle ticket for a chance to win a piece of art glass
LOCATION:Goldhagen Art Glass Studio\, Hayesville\, NC
UID:e.256.40342
SEQUENCE:3
DTSTAMP:20260423T121657Z
URL:https://members.visitblairsvillega.com/events/details/hot-summer-nights-09-19-2015-40342
END:VEVENT

END:VCALENDAR
