BEGIN:VCALENDAR
VERSION:2.0
PRODID:-//ChamberMaster//Event Calendar 2.0//EN
METHOD:PUBLISH
X-PUBLISHED-TTL:P3D
REFRESH-INTERVAL:P3D
CALSCALE:GREGORIAN
BEGIN:VEVENT
DTSTART:20151010T230000Z
DTEND:20151011T023000Z
X-MICROSOFT-CDO-ALLDAYEVENT:FALSE
SUMMARY:Hot Summer Nights
DESCRIPTION:Live music and Glassblowing Demonstrations. Watch David Goldhagen as he crafts fine art glass using ancient glassblowing techniques. Music will be provided by Sarah Tucker. Reservations are recommended. $10 includes admission\, parking and a raffle ticket for a chance to win a piece of hand blown fine art glass.
X-ALT-DESC;FMTTYPE=text/html:Live music and Glassblowing Demonstrations. Watch David Goldhagen as he crafts fine art glass using ancient glassblowing techniques. Music will be provided by Sarah Tucker. Reservations are recommended. $10 includes admission\, parking and a raffle ticket for a chance to win a piece of hand blown fine art glass.
LOCATION:Goldhagen Art Glass Studio\, Hayesville\, NC
UID:e.256.40343
SEQUENCE:3
DTSTAMP:20260423T115656Z
URL:https://members.visitblairsvillega.com/events/details/hot-summer-nights-10-10-2015-40343
END:VEVENT

END:VCALENDAR
