BEGIN:VCALENDAR
VERSION:2.0
PRODID:-//ChamberMaster//Event Calendar 2.0//EN
METHOD:PUBLISH
X-PUBLISHED-TTL:P3D
REFRESH-INTERVAL:P3D
CALSCALE:GREGORIAN
BEGIN:VEVENT
DTSTART:20140621T230000Z
DTEND:20140622T023000Z
X-MICROSOFT-CDO-ALLDAYEVENT:FALSE
SUMMARY:Hot Summer Nights at Goldhagen Art Glass
DESCRIPTION:Hot Summer Nights are back at Goldhagen Art Glass Studio! Now in our 12th year\, Hot Summer Nights is a fabulous evening of entertainment.  While relaxing and surrounded by great music\, you will be dazzled by the internationally acclaimed glass blowing artist David Goldhagen as he demonstrates the fine art of glass blowing! Hours: 7pm - 10:30pm Admission $10.00 per person Refreshments available for purchase separately For Information & Information: 828.389.8847 or davidgoldhagen@gmail.com www.goldhagenartglass.com Reservations Encouraged !!!\n\n\n\n2014 Schedule of Entertainment \n\nJune 21 Sarah Tucker\n\nJuly 5 Gnarley FIngers\n\nAugust 3 Monica Spears\n\nSeptember 13 Wyatt Espalin\n\nOctober 11 Lon Eldridge
X-ALT-DESC;FMTTYPE=text/html:<em><strong>Hot Summer Nights </strong></em>are back at Goldhagen Art Glass Studio! Now in our 12th year\, Hot Summer Nights is a fabulous evening of entertainment. &nbsp\;While relaxing and surrounded by great music\, you will be dazzled by the internationally acclaimed glass blowing artist David Goldhagen as he demonstrates the fine art of glass blowing! Hours: 7pm - 10:30pm Admission $10.00 per person Refreshments available for purchase separately For Information &amp\; Information: 828.389.8847 or davidgoldhagen@gmail.com www.goldhagenartglass.com <strong>Reservations Encouraged </strong>!!!<br />\n<br />\n<u><strong>2014 Schedule of Entertainment </strong></u><br />\nJune 21 Sarah Tucker<br />\nJuly 5 Gnarley FIngers<br />\nAugust 3 Monica Spears<br />\nSeptember 13 Wyatt Espalin<br />\nOctober 11 Lon Eldridge
LOCATION:Goldhagen Studios 7 Goldhagen Studio Drive Hayesville\, NC
UID:e.256.24483
SEQUENCE:3
DTSTAMP:20260424T122925Z
URL:https://members.visitblairsvillega.com/events/details/hot-summer-nights-at-goldhagen-art-glass-06-21-2014-24483
END:VEVENT

END:VCALENDAR
