BEGIN:VCALENDAR
VERSION:2.0
PRODID:-//ChamberMaster//Event Calendar 2.0//EN
METHOD:PUBLISH
X-PUBLISHED-TTL:P3D
REFRESH-INTERVAL:P3D
CALSCALE:GREGORIAN
BEGIN:VEVENT
DTSTART:20140803T230000Z
DTEND:20140804T023000Z
X-MICROSOFT-CDO-ALLDAYEVENT:FALSE
SUMMARY:Hot Summer Nights at Goldhagen Art Glass Studios
DESCRIPTION:Hot Summer Nights at Goldhagen Art Glass Studio\n\nSunday\, August 3\, 2014\n\n7pm - 10:30pm\n\nWatch David as he demonstrates the fine art of glassblowing while enjoying music by Monica Spears. Our event will be from 7pm-10:30pm this Sunday night and admission is $10 per person. Desserts and beverages will be available for separate purchase and guests are welcome to bring their own snacks and beverages. Contact us at 828.389.8847 or davidgoldhagen@gmail.com for reservations and more information. www.goldhagenartglass.com
X-ALT-DESC;FMTTYPE=text/html:Hot Summer Nights at&nbsp\;Goldhagen Art Glass Studio<br />\nSunday\, August 3\, 2014<br />\n7pm - 10:30pm<br />\nWatch David as he demonstrates the fine art of glassblowing while enjoying music by Monica Spears. Our event will be from 7pm-10:30pm this Sunday night and admission is $10 per person. Desserts and beverages will be available for separate purchase and guests are welcome to bring their own snacks and beverages. Contact us at 828.389.8847 or davidgoldhagen@gmail.com for reservations and more information. www.goldhagenartglass.com
LOCATION:Goldhagen Art Glass Studio 7 Goldhagen Studio Drive Hayesville\, NC
UID:e.256.25472
SEQUENCE:3
DTSTAMP:20260424T074207Z
URL:https://members.visitblairsvillega.com/events/details/hot-summer-nights-at-goldhagen-art-glass-studios-08-03-2014-25472
END:VEVENT

END:VCALENDAR
