BEGIN:VCALENDAR
VERSION:2.0
PRODID:-//ChamberMaster//Event Calendar 2.0//EN
METHOD:PUBLISH
X-PUBLISHED-TTL:P3D
REFRESH-INTERVAL:P3D
CALSCALE:GREGORIAN
BEGIN:VEVENT
DTSTART:20160306T003000Z
DTEND:20160306T023000Z
X-MICROSOFT-CDO-ALLDAYEVENT:FALSE
SUMMARY:Hotel California: A Salute to the Eagles
DESCRIPTION:Smoky Mountain Center Presents:   For more than two decades\, HOTEL CALIFORNIA has touched the hearts of fans all over the world\, by faithfully and accurately reproducing the Grammy award winning sounds of the Eagles. The magic and mystique of this truly timeless music\, is as powerful as it is captivating. So join us now on a trip down a dark desert highway\, feel the cool wind in your hair\, and experience Grammy award winning sounds. Relax it's time to check into the HOTEL CALIFORNIA.
X-ALT-DESC;FMTTYPE=text/html:Smoky Mountain Center Presents:&nbsp\;&nbsp\; For more than two decades\, HOTEL CALIFORNIA has touched the hearts of fans all over the world\, by faithfully and accurately reproducing the Grammy award winning sounds of the Eagles. The magic and mystique of this truly timeless music\, is as powerful as it is captivating. So join us now on a trip down a dark desert highway\, feel the cool wind in your hair\, and experience Grammy award winning sounds. Relax it&#39\;s time to check into the HOTEL CALIFORNIA.
LOCATION:Smoky Mountain Center for the Performing Arts 1028 Georgia Road Franklin\, NC 28734
UID:e.256.48129
SEQUENCE:3
DTSTAMP:20260421T040547Z
URL:https://members.visitblairsvillega.com/events/details/hotel-california-a-salute-to-the-eagles-03-05-2016-48129
END:VEVENT

END:VCALENDAR
