BEGIN:VCALENDAR
VERSION:2.0
PRODID:-//ChamberMaster//Event Calendar 2.0//EN
METHOD:PUBLISH
X-PUBLISHED-TTL:P3D
REFRESH-INTERVAL:P3D
CALSCALE:GREGORIAN
BEGIN:VEVENT
DTSTART:20160201T230000Z
DTEND:20160202T010000Z
X-MICROSOFT-CDO-ALLDAYEVENT:FALSE
SUMMARY:HOW IT ALL BEGAN-THE STORY OF UNITY
DESCRIPTION:This class will explore Unity's origins as well as its evolution. The course also explores the beginning and growth of local communities\, both in the United States and throughout the world.\n\n\n\nTOPICS EXPLORED\,\n\nThe events that inspired Charles and Myrtle Fillmore to share their spiritual insights.\n\nUnity's three-part ministry prayer\, publishing\, and education\n\nMajor events in Unity's history\n\nUnity's relationship with the larger New Thought movement.\n\n\n\nRequired Book:  THE STORY OF UNITY\, by James Dillet Freeman\n\n\n\nThis class may be taken for Spiritual Education and Enrichment credit.
X-ALT-DESC;FMTTYPE=text/html:This class will explore Unity&#39\;s origins as well as its evolution. The course also explores the beginning and growth of local communities\, both in the United States and throughout the world.<br />\n<br />\nTOPICS EXPLORED\,<br />\nThe events that inspired Charles and Myrtle Fillmore to share their spiritual insights.<br />\nUnity&#39\;s three-part ministry prayer\, publishing\, and education<br />\nMajor events in Unity&#39\;s history<br />\nUnity&#39\;s relationship with the larger New Thought movement.<br />\n<br />\nRequired Book: &nbsp\;THE STORY OF UNITY\, by James Dillet Freeman<br />\n<br />\nThis class may be taken for Spiritual Education and Enrichment credit.<br />\n&nbsp\;
LOCATION:Unity Church of the Mountains 2309 Murphy Hwy. Blairsville\, GA. 30512
UID:e.256.48274
SEQUENCE:3
DTSTAMP:20260421T040500Z
URL:https://members.visitblairsvillega.com/events/details/how-it-all-began-the-story-of-unity-02-01-2016-48274
END:VEVENT

END:VCALENDAR
