BEGIN:VCALENDAR
VERSION:2.0
PRODID:-//ChamberMaster//Event Calendar 2.0//EN
METHOD:PUBLISH
X-PUBLISHED-TTL:P3D
REFRESH-INTERVAL:P3D
CALSCALE:GREGORIAN
BEGIN:VEVENT
DTSTART:20170429T143000Z
DTEND:20170429T153000Z
X-MICROSOFT-CDO-ALLDAYEVENT:FALSE
SUMMARY:How to Grow Your Own Organic Garden Anywhere
DESCRIPTION:Learn different ways to grow food even if you don't have much space or sun or your body just can't weed and hoe. There are several methods so you can choose which one suits your particular needs.We all must put the vitamins and minerals back into our food. Experience the why and how to do this. RSVP 706-781-4048  $5
X-ALT-DESC;FMTTYPE=text/html:Learn different ways to grow food even if you don&#39\;t have much space or sun or your body just can&#39\;t weed and hoe. There are several methods so you can choose which one suits your particular needs.We all must put the vitamins and minerals back into our food. Experience the why and how to do this. RSVP 706-781-4048&nbsp\; $5
LOCATION:64 Bracketts Way\, Suite 9 Blairsville\, GA
UID:e.256.69108
SEQUENCE:3
DTSTAMP:20260420T024550Z
URL:https://members.visitblairsvillega.com/events/details/how-to-grow-your-own-organic-garden-anywhere-69108
END:VEVENT

END:VCALENDAR
