BEGIN:VCALENDAR
VERSION:2.0
PRODID:-//ChamberMaster//Event Calendar 2.0//EN
METHOD:PUBLISH
X-PUBLISHED-TTL:P3D
REFRESH-INTERVAL:P3D
CALSCALE:GREGORIAN
BEGIN:VEVENT
DTSTART:20170325T143000Z
DTEND:20170327T153000Z
X-MICROSOFT-CDO-ALLDAYEVENT:FALSE
SUMMARY:How to Have a "Better Belly" Using Natural and Safe Methods
DESCRIPTION:Need A Better Belly?\n\nAre you really digesting? How to tell and what to do about it. You will get tips and essential oil to help. Find natural and safe ways to correct one of the most important processes in your body. Inflammation causes all sorts of problems in the body and the brain.  If you aren't absorbing you can't renew and repair = aging and illness.  RSVP 706-781-4048  Fee $5
X-ALT-DESC;FMTTYPE=text/html:<span style="font-size:14px">Need A Better Belly?<br />\n<span style="font-size:12px">Are you really digesting? How to tell and what to do about it. You will get tips and essential oil to help. Find natural and safe ways to correct one of the most important</span><span style="font-size:12px"> processes in your body. Inflammation causes all sorts of problems in the body and the brain.&nbsp\; If you aren&#39\;t absorbing you can&#39\;t renew and repair = aging and illness.&nbsp\; RSVP 706-781-4048&nbsp\; Fee $5</span></span><br />\n&nbsp\;
LOCATION:64 Bracketts Way\, Suite 9 Blairsville\, GA 30512
UID:e.256.69107
SEQUENCE:3
DTSTAMP:20260420T042425Z
URL:https://members.visitblairsvillega.com/events/details/how-to-have-a-better-belly-using-natural-and-safe-methods-69107
END:VEVENT

END:VCALENDAR
