BEGIN:VCALENDAR
VERSION:2.0
PRODID:-//ChamberMaster//Event Calendar 2.0//EN
METHOD:PUBLISH
X-PUBLISHED-TTL:P3D
REFRESH-INTERVAL:P3D
CALSCALE:GREGORIAN
BEGIN:VEVENT
DTSTART:20160829T170000Z
DTEND:20160829T190000Z
X-MICROSOFT-CDO-ALLDAYEVENT:FALSE
SUMMARY:How To Let God Help You
DESCRIPTION:In this class we will explore Myrtle Fillmore's\n\napproach to Unity spiritual laws and universal\n\nprinciples.\n\nWe will practice using these laws and principles\n\nin the expression of health and wholeness in our\n\nminds\, bodies\, and affairs.\n\nHow To Let God\n\nHelp You\n\n"All of us sooner or later come to a place in our development\n\nwhere we are no longer satisfied to go on living the old life ."\n\nPerhaps you can relate to Myrtle's words. Isn't it time to take a\n\ndeep dive into a new way of looking at life?\n\nLet's come together and learn more!
X-ALT-DESC;FMTTYPE=text/html:In this class we will explore Myrtle Fillmore&rsquo\;s<br />\napproach to Unity spiritual laws and universal<br />\nprinciples.<br />\nWe will practice using these laws and principles<br />\nin the expression of health and wholeness in our<br />\nminds\, bodies\, and affairs.<br />\nHow To Let God<br />\nHelp You<br />\n&ldquo\;All of us sooner or later come to a place in our development<br />\nwhere we are no longer satisfied to go on living the old life&hellip\;.&rdquo\;<br />\nPerhaps you can relate to Myrtle&rsquo\;s words. Isn&rsquo\;t it time to take a<br />\ndeep dive into a new way of looking at life?<br />\nLet&rsquo\;s come together and learn more!
LOCATION:Facilitated by Rev. Robin Volker At Unity Church of the Mountains 2309 Murphy Hwy Blairsville\, GA 30512
UID:e.256.54061
SEQUENCE:3
DTSTAMP:20260420T182812Z
URL:https://members.visitblairsvillega.com/events/details/how-to-let-god-help-you-08-29-2016-54061
END:VEVENT

END:VCALENDAR
