BEGIN:VCALENDAR
VERSION:2.0
PRODID:-//ChamberMaster//Event Calendar 2.0//EN
METHOD:PUBLISH
X-PUBLISHED-TTL:P3D
REFRESH-INTERVAL:P3D
CALSCALE:GREGORIAN
BEGIN:VEVENT
DTSTART:20150806T163000Z
DTEND:20150806T173000Z
X-MICROSOFT-CDO-ALLDAYEVENT:FALSE
SUMMARY:How to Take Care of Your Emotional System
DESCRIPTION:Get Back Your Life!\n\n\n\nAn unhealthy mood can interfere wth so many things in a person's life. It can bring feelings of hopelessness and discouragement as well as symptoms of headache\, brain fog\, chest tightness and low back pain\, ADHD\, fear\, grief\, insomnia\, PTSD\, stress and more.\n\n\n\nLearn natural ways to handle these issues. Class $5 RSVP space is limited.
X-ALT-DESC;FMTTYPE=text/html:<span style="font-size: 14px\;">Get Back Your Life!<br />\n<br />\n<span style="font-size: 12px\;">An unhealthy mood can interfere wth so many things in a person&#39\;s life. It can bring feelings of hopelessness and discouragement as well as symptoms of headache\, brain fog\, chest tightness and low back pain\, ADHD\, fear\, grief\, insomnia\, PTSD\, stress and more.<br />\n<br />\nLearn natural ways to handle these issues. Class $5 RSVP space is limited.</span></span>
LOCATION:215 Blue Ridge Street Blairsville\, GA 30512
UID:e.256.41292
SEQUENCE:3
DTSTAMP:20260423T151552Z
URL:https://members.visitblairsvillega.com/events/details/how-to-take-care-of-your-emotional-system-08-06-2015-41292
END:VEVENT

END:VCALENDAR
