BEGIN:VCALENDAR
VERSION:2.0
PRODID:-//ChamberMaster//Event Calendar 2.0//EN
METHOD:PUBLISH
X-PUBLISHED-TTL:P3D
REFRESH-INTERVAL:P3D
CALSCALE:GREGORIAN
BEGIN:VEVENT
DTSTART:20170519T120000Z
DTEND:20170519T200000Z
X-MICROSOFT-CDO-ALLDAYEVENT:FALSE
SUMMARY:HUGE YARD SALE!
DESCRIPTION:Banjo Raffle\, Silent Auction for Unique Items\, BBQ lunch & Baked Goodies-- Furniture\, Clothing\, Jewelry\, Books\, Art Decor\, Pots & Plants and much more!
X-ALT-DESC;FMTTYPE=text/html:Banjo Raffle\, Silent Auction for Unique Items\, BBQ lunch &amp\; Baked Goodies-- Furniture\, Clothing\, Jewelry\, Books\, Art Decor\, Pots &amp\; Plants and much more!
LOCATION:Unity Church of the Mountains 2309 Murphy Hwy\, Blairsville
UID:e.256.73539
SEQUENCE:3
DTSTAMP:20260420T010021Z
URL:https://members.visitblairsvillega.com/events/details/huge-yard-sale-73539
END:VEVENT

END:VCALENDAR
