BEGIN:VCALENDAR
VERSION:2.0
PRODID:-//ChamberMaster//Event Calendar 2.0//EN
METHOD:PUBLISH
X-PUBLISHED-TTL:P3D
REFRESH-INTERVAL:P3D
CALSCALE:GREGORIAN
BEGIN:VEVENT
DTSTART:20150924T140000Z
DTEND:20150925T000000Z
X-MICROSOFT-CDO-ALLDAYEVENT:FALSE
SUMMARY:Hungry For God LaVallie Brothers Revival
DESCRIPTION:Hungry For God and God's Word Exciting teachings 10:00-12:00\, Monday-Friday\,under the big tent bring a comfortable chair and your Bible. 5:00-6:00 each day supper provide for a donation. 6:00PM-8:00 PM Great music concerts by different groups each night and anointed preaching and teaching. Bring carload of friends and family. A large tent will be available in case of rain. Bring a comfortable chair and every body you know. Bring your whole church.
X-ALT-DESC;FMTTYPE=text/html:Hungry For God and God&#39\;s Word Exciting teachings 10:00-12:00\, Monday-Friday\,under the big tent bring a comfortable chair and your Bible. 5:00-6:00 each day supper provide for a donation. 6:00PM-8:00 PM Great music concerts by different groups each night and anointed preaching and teaching. Bring carload of friends and family. A large tent will be available in case of rain. Bring a comfortable chair and every body you know. Bring your whole church.
LOCATION:MEEKS PARK\, BLAIRSVILLE\,GA. pass the ball fields and tennis courts. Golf carts available to transport the infirmed from the parking lot.
UID:e.256.43920
SEQUENCE:3
DTSTAMP:20260423T122231Z
URL:https://members.visitblairsvillega.com/events/details/hungry-for-god-lavallie-brothers-revival-09-24-2015-43920
END:VEVENT

END:VCALENDAR
