BEGIN:VCALENDAR
VERSION:2.0
PRODID:-//ChamberMaster//Event Calendar 2.0//EN
METHOD:PUBLISH
X-PUBLISHED-TTL:P3D
REFRESH-INTERVAL:P3D
CALSCALE:GREGORIAN
BEGIN:VEVENT
DTSTART:20140614T160000Z
DTEND:20140614T160000Z
X-MICROSOFT-CDO-ALLDAYEVENT:FALSE
SUMMARY:"I Hate Hamlet"
DESCRIPTION:Licklog Players Production of " I Hate Hamlet" will be June 6\,7\,& 8th and June 13\,14\, & 15th. Friday and Saturday shows will be at 8pm and Sunday matinees will be at 2.30pm. Tickets are $15 for adults $13 for seniors and $8 for students. For more information call 828-389-8632 or e-mail licklogplayers@aol.com Licklog Players\, Inc 828-389-8632 www.licklogplayers.org
X-ALT-DESC;FMTTYPE=text/html:Licklog Players Production of &quot\; I Hate Hamlet&quot\; will be June 6\,7\,&amp\; 8th and June 13\,14\, &amp\; 15th. Friday and Saturday shows will be at 8pm and Sunday matinees will be at 2.30pm. Tickets are $15 for adults $13 for seniors and $8 for students. For more information call 828-389-8632 or e-mail licklogplayers@aol.com Licklog Players\, Inc 828-389-8632 www.licklogplayers.org
LOCATION:Licklog Theater Hayesville\, NC
UID:e.256.24370
SEQUENCE:3
DTSTAMP:20260424T104739Z
URL:https://members.visitblairsvillega.com/events/details/i-hate-hamlet-06-14-2014-24370
END:VEVENT

END:VCALENDAR
