BEGIN:VCALENDAR
VERSION:2.0
PRODID:-//ChamberMaster//Event Calendar 2.0//EN
METHOD:PUBLISH
X-PUBLISHED-TTL:P3D
REFRESH-INTERVAL:P3D
CALSCALE:GREGORIAN
BEGIN:VEVENT
DTSTART:20140503T160000Z
DTEND:20140505T160000Z
X-MICROSOFT-CDO-ALLDAYEVENT:FALSE
SUMMARY:"I Hate Hamlet" auditions
DESCRIPTION:Auditions for Licklog Players Production "I Hate Hamlet" will take place on Saturday May 3rd from 10am -1pm and May 5th from 7pm-9pm at Creekside Plaza Theater (across from the ABC store) in Hayesville. Call 828-389-8632 or e-mail licklogplayers@aol.com for further information. Licklog Players\, Inc 828-389-8632 www.licklogplayers.org
X-ALT-DESC;FMTTYPE=text/html:Auditions for Licklog Players Production &quot\;I Hate Hamlet&quot\; will take place on <strong>Saturday May 3rd from 10am -1pm and May 5th from 7pm-9pm</strong> at Creekside Plaza Theater (across from the ABC store) in Hayesville. Call 828-389-8632 or e-mail licklogplayers@aol.com for further information. Licklog Players\, Inc 828-389-8632 www.licklogplayers.org
LOCATION:Licklog Players Theater Creekside Plaza Theater Hayesville\, NC
UID:e.256.23766
SEQUENCE:3
DTSTAMP:20260424T133139Z
URL:https://members.visitblairsvillega.com/events/details/i-hate-hamlet-auditions-05-03-2014-23766
END:VEVENT

END:VCALENDAR
