BEGIN:VCALENDAR
VERSION:2.0
PRODID:-//ChamberMaster//Event Calendar 2.0//EN
METHOD:PUBLISH
X-PUBLISHED-TTL:P3D
REFRESH-INTERVAL:P3D
CALSCALE:GREGORIAN
BEGIN:VEVENT
DTSTART:20170602T150000Z
DTEND:20170602T180000Z
X-MICROSOFT-CDO-ALLDAYEVENT:FALSE
SUMMARY:Impact Design and Creations 1st Annual Customer Appreciation
DESCRIPTION:Impact Design and Creations is celebrating our 1 year anniversary of being open for business. We would like our past\, present and future customers to join us on June 2\, 2017 for food and fun. We are so blessed that you have given us this opportunity to serve you this past year\, and look forward to serving you all for many years to come.
X-ALT-DESC;FMTTYPE=text/html:Impact Design and Creations is celebrating our 1 year anniversary of being open for business. We would like our past\, present and future customers to join us on June 2\, 2017 for food and fun. We are so blessed that you have given us this opportunity to serve you this past year\, and look forward to serving you all for many years to come.
LOCATION:Mountain Village Shopping Center Impact Design and Creations 307 Cleveland St Suite C Blairsville\, GA 30512
UID:e.256.73808
SEQUENCE:3
DTSTAMP:20260419T233012Z
URL:https://members.visitblairsvillega.com/events/details/impact-design-and-creations-1st-annual-customer-appreciation-73808
END:VEVENT

END:VCALENDAR
