BEGIN:VCALENDAR
VERSION:2.0
PRODID:-//ChamberMaster//Event Calendar 2.0//EN
METHOD:PUBLISH
X-PUBLISHED-TTL:P3D
REFRESH-INTERVAL:P3D
CALSCALE:GREGORIAN
BEGIN:VEVENT
DTSTART:20150704T123000Z
DTEND:20150704T200000Z
X-MICROSOFT-CDO-ALLDAYEVENT:FALSE
SUMMARY:Independence Day at Vogel Park
DESCRIPTION:Summer fun for the entire family.  Activities begin with the raising the flag in the morning and continue with games for the kids and "young at heart".
X-ALT-DESC;FMTTYPE=text/html:Summer fun for the entire family.&nbsp\; Activities begin with the raising the flag in the morning and continue with games for the kids and &quot\;young at heart&quot\;.
LOCATION:Vogel State Park U.S. HWY 129S/19
UID:e.256.36701
SEQUENCE:3
DTSTAMP:20260423T165154Z
URL:https://members.visitblairsvillega.com/events/details/independence-day-at-vogel-park-07-04-2015-36701
END:VEVENT

END:VCALENDAR
