BEGIN:VCALENDAR
VERSION:2.0
PRODID:-//ChamberMaster//Event Calendar 2.0//EN
METHOD:PUBLISH
X-PUBLISHED-TTL:P3D
REFRESH-INTERVAL:P3D
CALSCALE:GREGORIAN
BEGIN:VEVENT
DTSTART:20140705T013000Z
DTEND:20140705T023000Z
X-MICROSOFT-CDO-ALLDAYEVENT:FALSE
SUMMARY:Independence Day Fireworks at Meeks Park
DESCRIPTION:Watch the skies over Meeks Parks light up with an explosion of lights and colors!
X-ALT-DESC;FMTTYPE=text/html:<em><strong>Watch the skies over Meeks Parks light up with an explosion of lights and colors!</strong></em><br />\n&nbsp\;
LOCATION:Meeks Park 11 Pool Lane (1/2 mile west of Blairsville on Hwy. 515W) Blairsville\, GA
UID:e.256.20922
SEQUENCE:3
DTSTAMP:20260424T091810Z
URL:https://members.visitblairsvillega.com/events/details/independence-day-fireworks-at-meeks-park-07-04-2014-20922
END:VEVENT

END:VCALENDAR
