BEGIN:VCALENDAR
VERSION:2.0
PRODID:-//ChamberMaster//Event Calendar 2.0//EN
METHOD:PUBLISH
X-PUBLISHED-TTL:P3D
REFRESH-INTERVAL:P3D
CALSCALE:GREGORIAN
BEGIN:VEVENT
DTSTART:20141005T130000Z
DTEND:20141005T210000Z
X-MICROSOFT-CDO-ALLDAYEVENT:FALSE
SUMMARY:Indian Summer Festival
DESCRIPTION:Craft Show\n\nArts/Crafts\, Antiques\, Pottery\, Leather\, Jewelry\, Folk Art\, Needlework\, Handmade Quilts\n\nGood Things To Eat\n\nThe Main Food Concession features:\n\nChicken BBQ\, Pork BBQ Plates & Sandwiches\n\nThe School Faculty Booth Features:\n\nGrilled Hamburgers & Hot Dogs\n\nMouthwatering Pies & Delicious Cakes\n\nSponsored by the Gaddistown Homemakers\n\nLive Auction\n\nBid on new items donated by businesses and individuals\n\nItems in every price range for you to bid on\n\nSpecial Features:\n\nPlay on stage by Woody Gap students\, climbing wall\, demonstrations\, Bluegrass Gospel\, Mountain music\, and cloggers.\n\nSquare Dance \n\nSuches Community Center (across from the school)\n\nStarts at 8pm Saturday night Featuring: Hwy 76 Band\n\n\n\nOctober 4th The Run Above the Clouds\n\n10K Road Race begins at 9am\n\nand 1-mile race\n\nArrive early to register and check-in
X-ALT-DESC;FMTTYPE=text/html:<em><strong>Craft Show</strong></em><br />\nArts/Crafts\, Antiques\, Pottery\, Leather\, Jewelry\, Folk Art\, Needlework\, Handmade Quilts<br />\n<em><strong>Good Things To Eat</strong></em><br />\nThe Main Food Concession features:<br />\nChicken BBQ\, Pork BBQ Plates &amp\; Sandwiches<br />\nThe School Faculty Booth Features:<br />\nGrilled Hamburgers &amp\; Hot Dogs<br />\nMouthwatering Pies &amp\; Delicious Cakes<br />\nSponsored by the Gaddistown Homemakers<br />\n<em><strong>Live Auction</strong></em><br />\nBid on new items donated by businesses and individuals<br />\nItems in every price range for you to bid on<br />\n<em><strong>Special Features:</strong></em><br />\nPlay on stage by Woody Gap students\, climbing wall\, demonstrations\, Bluegrass Gospel\, Mountain music\, and cloggers.<br />\n<em><strong>Square Dance </strong></em><br />\nSuches Community Center (across from the school)<br />\nStarts at 8pm Saturday night Featuring: Hwy 76 Band<br />\n<br />\n<strong>October 4th The Run Above the Clouds<br />\n10K Road Race begins at 9am<br />\nand 1-mile race<br />\nArrive early to register and check-in</strong>
LOCATION:2331 Hwy 60 Suches\, GA
UID:e.256.20975
SEQUENCE:3
DTSTAMP:20260424T061544Z
URL:https://members.visitblairsvillega.com/events/details/indian-summer-festival-10-05-2014-20975
END:VEVENT

END:VCALENDAR
