BEGIN:VCALENDAR
VERSION:2.0
PRODID:-//ChamberMaster//Event Calendar 2.0//EN
METHOD:PUBLISH
X-PUBLISHED-TTL:P3D
REFRESH-INTERVAL:P3D
CALSCALE:GREGORIAN
BEGIN:VEVENT
DTSTART:20161002T000000Z
DTEND:20161002T030000Z
X-MICROSOFT-CDO-ALLDAYEVENT:FALSE
SUMMARY:Indian Summer Festival Square Dance
DESCRIPTION:Come join the the Square Dancing fun.  A good time for all!!!!!
X-ALT-DESC;FMTTYPE=text/html:Come join the the Square Dancing fun.&nbsp\; A good time for all!!!!!
LOCATION:Suches Community Center
UID:e.256.45596
SEQUENCE:3
DTSTAMP:20260420T131200Z
URL:https://members.visitblairsvillega.com/events/details/indian-summer-festival-square-dance-10-01-2016-45596
END:VEVENT

END:VCALENDAR
