BEGIN:VCALENDAR
VERSION:2.0
PRODID:-//ChamberMaster//Event Calendar 2.0//EN
METHOD:PUBLISH
X-PUBLISHED-TTL:P3D
REFRESH-INTERVAL:P3D
CALSCALE:GREGORIAN
BEGIN:VEVENT
DTSTART:20140906T143000Z
DTEND:20140906T143000Z
X-MICROSOFT-CDO-ALLDAYEVENT:FALSE
SUMMARY:Inspiring Stewardship - Celebrating 50 Years of Wilderness in Georgia
DESCRIPTION:Inspiring stewardship\n\nCelebrating 50 Years of Wilderness in Georgia 1964 - 2014\nJoin Us!\n\nSaturday\, September 6\, 2014\n\nKick-off at 10:30am\n\nHancock Park\, Dahlonega\n\nKeynote Speaker - Dale Bosworth Chief of the U.S. Forest Service 2001 - 2007\n\nFeaturing:\n\n	Inspirational Speakers\n	Wilderness Experts\n	Vendors and Exhibits\n	Traditional Skills Demos\n	Children's Activities\n	Live Music and Food
X-ALT-DESC;FMTTYPE=text/html:<div style="text-align: center\;"><strong>Inspiring stewardship<br />\nCelebrating 50 Years of Wilderness in Georgia 1964 - 2014</strong></div>\nJoin Us!<br />\nSaturday\, September 6\, 2014<br />\nKick-off at 10:30am<br />\nHancock Park\, Dahlonega<br />\nKeynote Speaker - Dale Bosworth Chief of the U.S. Forest Service 2001 - 2007<br />\nFeaturing:\n<ul>\n	<li>Inspirational Speakers</li>\n	<li>Wilderness Experts</li>\n	<li>Vendors and Exhibits</li>\n	<li>Traditional Skills Demos</li>\n	<li>Children&#39\;s Activities</li>\n	<li>Live Music and Food</li>\n</ul>\n
LOCATION:Downtown Dahlonega Hancock Park
UID:e.256.27323
SEQUENCE:3
DTSTAMP:20260424T063620Z
URL:https://members.visitblairsvillega.com/events/details/inspiring-stewardship-celebrating-50-years-of-wilderness-in-georgia-09-06-2014-27323
END:VEVENT

END:VCALENDAR
