BEGIN:VCALENDAR
VERSION:2.0
PRODID:-//ChamberMaster//Event Calendar 2.0//EN
METHOD:PUBLISH
X-PUBLISHED-TTL:P3D
REFRESH-INTERVAL:P3D
CALSCALE:GREGORIAN
BEGIN:VEVENT
DTSTART:20151029T220000Z
DTEND:20151030T010000Z
X-MICROSOFT-CDO-ALLDAYEVENT:FALSE
SUMMARY:Instant Piano Class
DESCRIPTION:If you desire to experience the joy of playing the piano\, but don't want years of weekly lessons\, this short course is for you! In just one enjoyable evening\, you can learn enough secrets of the trade to make piano a part of your life by learning chords instead of notes. This is a beginning class in chord piano techniques\, and if you can find middle C\, you already know enough to enroll! It's a proven\, fun and relaxed approach to professional-style playing.
X-ALT-DESC;FMTTYPE=text/html:<p>&nbsp\;</p>\n\n<p><font face="Calibri\,Calibri" size="4"><font face="Calibri\,Calibri" size="4">If&nbsp\;you desire to experience the joy of playing the piano\, but don&#39\;t want years of weekly lessons\, this short course is for you! In just one enjoyable evening\, you can learn enough secrets of the trade to make piano a part of your life by learning chords instead of notes. This is a beginning class in chord piano techniques\, and if you can find middle C\, you already know enough to enroll! It&#39\;s a proven\, fun and relaxed approach to professional-style playing. </font></font></p>\n
LOCATION:NGTC Clarkesville Campus
UID:e.256.42413
SEQUENCE:3
DTSTAMP:20260423T102441Z
URL:https://members.visitblairsvillega.com/events/details/instant-piano-class-10-29-2015-42413
END:VEVENT

END:VCALENDAR
