BEGIN:VCALENDAR
VERSION:2.0
PRODID:-//ChamberMaster//Event Calendar 2.0//EN
METHOD:PUBLISH
X-PUBLISHED-TTL:P3D
REFRESH-INTERVAL:P3D
CALSCALE:GREGORIAN
BEGIN:VEVENT
DTSTART:20160114T170000Z
DTEND:20160114T180000Z
X-MICROSOFT-CDO-ALLDAYEVENT:FALSE
SUMMARY:Interagency Group Meeting
DESCRIPTION:Great program will be presented by Robin Watts. She always gives us a lot to think about and makes it fun too!  She will be discussing the Living Will.
X-ALT-DESC;FMTTYPE=text/html:<span style="font-size: 8.5pt\;"><span style="font-family: arial\,sans-serif\;"><span style="color: rgb(80\, 80\, 80)\;">Great program will be presented by Robin Watts. She always gives us a lot to think about and makes it fun too!&nbsp\; She will be discussing the Living Will.</span></span></span><br />\n<br />\n&nbsp\;
LOCATION:Civic Center\, Blairsville
UID:e.256.45167
SEQUENCE:3
DTSTAMP:20260421T055633Z
URL:https://members.visitblairsvillega.com/events/details/interagency-group-meeting-01-14-2016-45167
END:VEVENT

END:VCALENDAR
