BEGIN:VCALENDAR
VERSION:2.0
PRODID:-//ChamberMaster//Event Calendar 2.0//EN
METHOD:PUBLISH
X-PUBLISHED-TTL:P3D
REFRESH-INTERVAL:P3D
CALSCALE:GREGORIAN
BEGIN:VEVENT
DTSTART:20151010T110000Z
DTEND:20151010T170000Z
X-MICROSOFT-CDO-ALLDAYEVENT:FALSE
SUMMARY:International Food Day - Union County Farmers Market
DESCRIPTION:Enjoy over 80 vendors selling fresh fruits\, veggies\, crafts\, and more!
X-ALT-DESC;FMTTYPE=text/html:<span style="font-size: 10pt\;"><span style="font-family: arial\,sans-serif\;"><span style="color: rgb(51\, 51\, 51)\;">Enjoy over 80 vendors selling fresh fruits\,&nbsp\;veggies\, crafts\, and more!&nbsp\;</span></span></span><br />\n&nbsp\;
LOCATION:Union County Farmers Market
UID:e.256.37975
SEQUENCE:3
DTSTAMP:20260423T104531Z
URL:https://members.visitblairsvillega.com/events/details/international-food-day-union-county-farmers-market-10-10-2015-37975
END:VEVENT

END:VCALENDAR
