BEGIN:VCALENDAR
VERSION:2.0
PRODID:-//ChamberMaster//Event Calendar 2.0//EN
METHOD:PUBLISH
X-PUBLISHED-TTL:P3D
REFRESH-INTERVAL:P3D
CALSCALE:GREGORIAN
BEGIN:VEVENT
DTSTART:20150814T140000Z
DTEND:20150814T160000Z
X-MICROSOFT-CDO-ALLDAYEVENT:FALSE
SUMMARY:Introduction to Butterflies and Moths
DESCRIPTION:Want to know more about the Painted Ladies and Long-Tailed Skippers in your backyard? The Community Council of the Georgia Mountain Research & Education Center invites you to a free seminar to learn more about the lifestyles of the butterflies and moths in your neighborhood. Our speaker\, Dr. James Adams\, teaches biology\, ecology and entomology at Dalton State College\, where he is a professor.
X-ALT-DESC;FMTTYPE=text/html:Want to know more about the Painted Ladies and Long-Tailed Skippers in your backyard? The Community Council of the Georgia Mountain Research &amp\; Education Center invites you to a free seminar to learn more about the lifestyles of the butterflies and moths in your neighborhood. Our speaker\, Dr. James Adams\, teaches biology\, ecology and entomology at Dalton State College\, where he is a professor.
LOCATION:The Georgia Mountain Research & Education Center\, 3 miles south of the Blairsville Square\, on the east side of Hwy 19/129.
UID:e.256.41390
SEQUENCE:3
DTSTAMP:20260423T151241Z
URL:https://members.visitblairsvillega.com/events/details/introduction-to-butterflies-and-moths-08-14-2015-41390
END:VEVENT

END:VCALENDAR
