BEGIN:VCALENDAR
VERSION:2.0
PRODID:-//ChamberMaster//Event Calendar 2.0//EN
METHOD:PUBLISH
X-PUBLISHED-TTL:P3D
REFRESH-INTERVAL:P3D
CALSCALE:GREGORIAN
BEGIN:VEVENT
DTSTART:20160503T213000Z
DTEND:20160503T233000Z
X-MICROSOFT-CDO-ALLDAYEVENT:FALSE
SUMMARY:Introduction to Puppetry Workshop
DESCRIPTION:Date: May 2\, 2016 Show Time: 5:30pm Ticket Prices: $30 Registration & Supplies Fee - Sold at door Learn the age-old craft of foam puppet building and manipulation from start to finish. Each student will design and fabricate their own puppet based upon a specific style and personality. Lost of fun for kids and adults. For ages 9 to adult. For more information or to register\, please contact the theatre box office at 828-524-1598. A registration and supplies fee of $30 is required for each participant. Schedule: May 2\, 3\, 4 & 5 at 5:30pm-7:30pm
X-ALT-DESC;FMTTYPE=text/html:Date: May 2\, 2016 Show Time: 5:30pm Ticket Prices: $30 Registration &amp\; Supplies Fee - Sold at door Learn the age-old craft of foam puppet building and manipulation from start to finish. Each student will design and fabricate their own puppet based upon a specific style and personality. Lost of fun for kids and adults. For ages 9 to adult. For more information or to register\, please contact the theatre box office at 828-524-1598. A registration and supplies fee of $30 is required for each participant. Schedule: May 2\, 3\, 4 &amp\; 5 at 5:30pm-7:30pm
LOCATION:Smoky Mountain Center for the Performing Arts 1028 Georgia Road Franklin\, NC 28734
UID:e.256.48286
SEQUENCE:3
DTSTAMP:20260420T222441Z
URL:https://members.visitblairsvillega.com/events/details/introduction-to-puppetry-workshop-05-03-2016-48286
END:VEVENT

END:VCALENDAR
