BEGIN:VCALENDAR
VERSION:2.0
PRODID:-//ChamberMaster//Event Calendar 2.0//EN
METHOD:PUBLISH
X-PUBLISHED-TTL:P3D
REFRESH-INTERVAL:P3D
CALSCALE:GREGORIAN
BEGIN:VEVENT
DTSTART:20150429T210000Z
DTEND:20150429T230000Z
X-MICROSOFT-CDO-ALLDAYEVENT:FALSE
SUMMARY:Introuction to T.A.T.
DESCRIPTION:Learn simple techniques with powerful effects in the release of stressors. We all have them\, let's learn to relax and release! Tapas Accupressure Techniques are a wonderful tool that can be used anywhere and anytime to make a difference! Sukoshi Rice\, licensed practitioner Pre register\, $20\, at the event\, $30
X-ALT-DESC;FMTTYPE=text/html:Learn simple techniques with powerful effects in the release of stressors. We all have them\, let&#39\;s learn to relax and release! Tapas Accupressure Techniques are a wonderful tool that can be used anywhere and anytime to make a difference! Sukoshi Rice\, licensed practitioner Pre register\, $20\, at the event\, $30
LOCATION:BodySense 2226 Ridge Crest Circle Hiawassee\, GA
UID:e.256.39923
SEQUENCE:3
DTSTAMP:20260423T200158Z
URL:https://members.visitblairsvillega.com/events/details/introuction-to-t-a-t-04-29-2015-39923
END:VEVENT

END:VCALENDAR
