BEGIN:VCALENDAR
VERSION:2.0
PRODID:-//ChamberMaster//Event Calendar 2.0//EN
METHOD:PUBLISH
X-PUBLISHED-TTL:P3D
REFRESH-INTERVAL:P3D
CALSCALE:GREGORIAN
BEGIN:VEVENT
DTSTART:20170804T230000Z
DTEND:20170805T010000Z
X-MICROSOFT-CDO-ALLDAYEVENT:FALSE
SUMMARY:Is Genesis History?
DESCRIPTION:Is Genesis History? features over a dozen scientists and scholars explaining how the world intersects with Genesis. From rock layers to fossils\, from lions to stars\, this fascinating film will change the way you see the world. The film's goal is to provide a reasonable case for Creation in six normal days\, a real Adam and Eve\, an actual fall\, a global flood\, and a tower of Babel. Dr. Del Tackett\, creator of "The Truth Project\," serves as your guide- hiking through canyons\, climbing up mountains\, and diving below the sea- in an exploration of two competing views and one compelling truth. With special guest\, Thomas Purifoy Jr\, director of "Is Genesis History?" to introduce the film and provide an after-viewing question and answer session.
X-ALT-DESC;FMTTYPE=text/html:Is Genesis History? features over a dozen scientists and scholars explaining how the world intersects with Genesis. From rock layers to fossils\, from lions to stars\, this fascinating film will change the way you see the world. The film&#39\;s goal is to provide a reasonable case for Creation in six normal days\, a real Adam and Eve\, an actual fall\, a global flood\, and a tower of Babel. Dr. Del Tackett\, creator of &quot\;The Truth Project\,&quot\; serves as your guide- hiking through canyons\, climbing up mountains\, and diving below the sea- in an exploration of two competing views and one compelling truth. With special guest\, Thomas Purifoy Jr\, director of &quot\;Is Genesis History?&quot\; to introduce the film and provide an after-viewing question and answer session.
LOCATION:Smoky Mountain Center for the Performing Arts 1028 Georgia Road Franklin\, NC 28734
UID:e.256.75366
SEQUENCE:3
DTSTAMP:20260419T210158Z
URL:https://members.visitblairsvillega.com/events/details/is-genesis-history-75366
END:VEVENT

END:VCALENDAR
