BEGIN:VCALENDAR
VERSION:2.0
PRODID:-//ChamberMaster//Event Calendar 2.0//EN
METHOD:PUBLISH
X-PUBLISHED-TTL:P3D
REFRESH-INTERVAL:P3D
CALSCALE:GREGORIAN
BEGIN:VEVENT
DTSTART:20160708T140000Z
DTEND:20160708T160000Z
X-MICROSOFT-CDO-ALLDAYEVENT:FALSE
SUMMARY:Is There an Apothecary in Your Garden?
DESCRIPTION:Learn about the uses of many native and garden plants with a long history of medicinal use that continue to be an important source of healing\, along with some tips about how to incorporate them into your garden\, and your medicine chest! Our speaker is Patricia Kyritsi Howell\, Registered Herbalist and Director of the BotanoLogos School of Herbal Studies.
X-ALT-DESC;FMTTYPE=text/html:Learn about the uses of many native and garden plants with a long history of medicinal use that continue to be an important source of healing\, along with some tips about how to incorporate them into your garden\, and your medicine chest! Our speaker is Patricia Kyritsi Howell\, Registered Herbalist and Director of the BotanoLogos School of Herbal Studies.
LOCATION:The Georgia Mountain Research & Education Center\, 3 miles south of the Blairsville Square\, on the east side of Hwy 19/129.
UID:e.256.46196
SEQUENCE:3
DTSTAMP:20260420T184228Z
URL:https://members.visitblairsvillega.com/events/details/is-there-an-apothecary-in-your-garden-07-08-2016-46196
END:VEVENT

END:VCALENDAR
