BEGIN:VCALENDAR
VERSION:2.0
PRODID:-//ChamberMaster//Event Calendar 2.0//EN
METHOD:PUBLISH
X-PUBLISHED-TTL:P3D
REFRESH-INTERVAL:P3D
CALSCALE:GREGORIAN
BEGIN:VEVENT
DTSTART:20151219T003000Z
DTEND:20151219T030000Z
X-MICROSOFT-CDO-ALLDAYEVENT:FALSE
SUMMARY:It's a Wonderful Life
DESCRIPTION:This beloved American holiday classic comes to captivating life as a live 1940s radio broadcast. With the help of an ensemble that brings a few dozen characters to the stage\, the story of idealistic George Bailey unfolds as he considers ending his life one fateful Christmas Eve.
X-ALT-DESC;FMTTYPE=text/html:This beloved American holiday classic comes to captivating life as a live 1940s radio broadcast. With the help of an ensemble that brings a few dozen characters to the stage\, the story of idealistic George Bailey unfolds as he considers ending his life one fateful Christmas Eve.
LOCATION:Smoky Mountain Center for the Performing Arts 1028 Georgia Road Franklin\, NC 28734
UID:e.256.41407
SEQUENCE:3
DTSTAMP:20260421T074140Z
URL:https://members.visitblairsvillega.com/events/details/it-s-a-wonderful-life-12-18-2015-41407
END:VEVENT

END:VCALENDAR
