BEGIN:VCALENDAR
VERSION:2.0
PRODID:-//ChamberMaster//Event Calendar 2.0//EN
METHOD:PUBLISH
X-PUBLISHED-TTL:P3D
REFRESH-INTERVAL:P3D
CALSCALE:GREGORIAN
BEGIN:VEVENT
DTSTART;VALUE=DATE:20140505
DTEND;VALUE=DATE:20140506
TRANSP:TRANSPARENT
X-MICROSOFT-CDO-ALLDAYEVENT:TRUE
SUMMARY:"Jake's Women"
DESCRIPTION:'Jake's Women . Show dates are April 25\,26\, & 27th and May 3\,4\,& 5th .Fridays and Saturdays at 8pm and Sundays matinees at 2.30pm. Box Office opens April 14th Mon-Fri 10am-2pm. Tickets are $15 for adults\; $13 for seniors and $8 for students. For information and tickets call 828-389-8632 or e-mail Licklog at licklogplayers@aol.com Licklog Players\, Inc 828-389-8632 www.licklogplayers.org
X-ALT-DESC;FMTTYPE=text/html:&#39\;Jake&#39\;s Women . Show dates are April 25\,26\, &amp\; 27th and May 3\,4\,&amp\; 5th .Fridays and Saturdays at 8pm and Sundays matinees at 2.30pm. Box Office opens April 14th Mon-Fri 10am-2pm. Tickets are $15 for adults\; $13 for seniors and $8 for students. For information and tickets call 828-389-8632 or e-mail Licklog at licklogplayers@aol.com Licklog Players\, Inc 828-389-8632 www.licklogplayers.org
LOCATION:Licklog Theater Hayesville\, NC
UID:e.256.24161
SEQUENCE:3
DTSTAMP:20260424T122206Z
URL:https://members.visitblairsvillega.com/events/details/jake-s-women-05-05-2014-24161
END:VEVENT

END:VCALENDAR
