BEGIN:VCALENDAR
VERSION:2.0
PRODID:-//ChamberMaster//Event Calendar 2.0//EN
METHOD:PUBLISH
X-PUBLISHED-TTL:P3D
REFRESH-INTERVAL:P3D
CALSCALE:GREGORIAN
BEGIN:VEVENT
DTSTART:20170526T233000Z
DTEND:20170527T013000Z
X-MICROSOFT-CDO-ALLDAYEVENT:FALSE
SUMMARY:James Gregory- The Funniest Man in America
DESCRIPTION:James Gregory creates an evening of non-stop laughter with a wry sense of the absurd\, a Southern accent and universal story-telling. The ridiculous\, the common and sometimes even the simplest events all become hilarious in the hands of this master storyteller and world-class comedian. James'success\, like his comedy\, is the direct result of the values he grew up with. It is this unique brand of humor that packs the crowds into his sold-out shows. The absence of vulgarity sets James apart and his stories are carefully crafted art. "I have lived long enough to know people\, know life\," Gregory reflects. "My comedy is based on my life experiences. It's real\, it's funny and the audience loves it. That's why I'm still in business."
X-ALT-DESC;FMTTYPE=text/html:James Gregory creates an evening of non-stop laughter with a wry sense of the absurd\, a Southern accent and universal story-telling. The ridiculous\, the common and sometimes even the simplest events all become hilarious in the hands of this master storyteller and world-class comedian. James&#39\;success\, like his comedy\, is the direct result of the values he grew up with. It is this unique brand of humor that packs the crowds into his sold-out shows. The absence of vulgarity sets James apart and his stories are carefully crafted art. &quot\;I have lived long enough to know people\, know life\,&quot\; Gregory reflects. &quot\;My comedy is based on my life experiences. It&#39\;s real\, it&#39\;s funny and the audience loves it. That&#39\;s why I&#39\;m still in business.&quot\;
LOCATION:Smoky Mountain Center for the Performing Arts 1028 Georgia Road Franklin\, NC 28734
UID:e.256.69051
SEQUENCE:3
DTSTAMP:20260420T020713Z
URL:https://members.visitblairsvillega.com/events/details/james-gregory-the-funniest-man-in-america-69051
END:VEVENT

END:VCALENDAR
