BEGIN:VCALENDAR
VERSION:2.0
PRODID:-//ChamberMaster//Event Calendar 2.0//EN
METHOD:PUBLISH
X-PUBLISHED-TTL:P3D
REFRESH-INTERVAL:P3D
CALSCALE:GREGORIAN
BEGIN:VEVENT
DTSTART:20160430T233000Z
DTEND:20160501T013000Z
X-MICROSOFT-CDO-ALLDAYEVENT:FALSE
SUMMARY:James Rogers
DESCRIPTION:Date: April 30\, 2016 Show Time: 7:30pm Ticket Prices: $17 In the early 1980's\, James Rogers was trying to land a recording contract and was advised to enter a talent contest at a theme park in the Smokies called Silver Dollar City. Out of 2\,000 contestants\, James won the 1983 National Mountain Music Festival at Silver Dollar City in Pigeon Forge\, TN which would later become Dollywood\, his place to entertain for over thirty years. Later\, the Dollywood corporation became his business partners in Music Mansion in Pigeon Forge\, Tennessee from 1993 -1998. During this time\, James earned the title of "the number one most attended show in the Smokies" and won several awards\, including the Peoples' Choice Award for "BEST SHOW" 1997 and 1998\, "BEST THEATER" 1996\, 1997\, and 1998\, and "BEST ENTERTAINER" 1997 and 1998. Now\, after retiring from Dollywood\, James is on the road\, sharing his music and stories featuring tributes to the Armed Forces\, the American Bald Eagle and other causes that bring the listener closer to God and country.
X-ALT-DESC;FMTTYPE=text/html:Date: April 30\, 2016 Show Time: 7:30pm Ticket Prices: $17 In the early 1980&#39\;s\, James Rogers was trying to land a recording contract and was advised to enter a talent contest at a theme park in the Smokies called Silver Dollar City. Out of 2\,000 contestants\, James won the 1983 National Mountain Music Festival at Silver Dollar City in Pigeon Forge\, TN which would later become Dollywood\, his place to entertain for over thirty years. Later\, the Dollywood corporation became his business partners in Music Mansion in Pigeon Forge\, Tennessee from 1993 -1998. During this time\, James earned the title of &quot\;the number one most attended show in the Smokies&quot\; and won several awards\, including the Peoples&#39\; Choice Award for &quot\;BEST SHOW&quot\; 1997 and 1998\, &quot\;BEST THEATER&quot\; 1996\, 1997\, and 1998\, and &quot\;BEST ENTERTAINER&quot\; 1997 and 1998. Now\, after retiring from Dollywood\, James is on the road\, sharing his music and stories featuring tributes to the Armed Forces\, the American Bald Eagle and other causes that bring the listener closer to God and country.
LOCATION:Smoky Mountain Center for the Performing Arts 1028 Georgia Road Franklin\, NC 28734
UID:e.256.48260
SEQUENCE:3
DTSTAMP:20260421T001957Z
URL:https://members.visitblairsvillega.com/events/details/james-rogers-04-30-2016-48260
END:VEVENT

END:VCALENDAR
