BEGIN:VCALENDAR
VERSION:2.0
PRODID:-//ChamberMaster//Event Calendar 2.0//EN
METHOD:PUBLISH
X-PUBLISHED-TTL:P3D
REFRESH-INTERVAL:P3D
CALSCALE:GREGORIAN
BEGIN:VEVENT
DTSTART:20171104T230000Z
DTEND:20171105T023000Z
X-MICROSOFT-CDO-ALLDAYEVENT:FALSE
SUMMARY:Jamey Johnson in Concert at the Georgia Mountain Fairgrounds
DESCRIPTION:Welcome Jamey Johnson back to the Anderson Music Hall in Hiawassee\, Ga for a great concert.
X-ALT-DESC;FMTTYPE=text/html:Welcome Jamey Johnson back to the Anderson Music Hall in Hiawassee\, Ga for a great concert.
LOCATION:Georgia Mountain Fairgrounds 1311 Music Hall Road - Hwy 76 W Hiawassee\, GA 30546
UID:e.256.76174
SEQUENCE:3
DTSTAMP:20260419T141928Z
URL:https://members.visitblairsvillega.com/events/details/jamey-johnson-in-concert-at-the-georgia-mountain-fairgrounds-76174
END:VEVENT

END:VCALENDAR
