BEGIN:VCALENDAR
VERSION:2.0
PRODID:-//ChamberMaster//Event Calendar 2.0//EN
METHOD:PUBLISH
X-PUBLISHED-TTL:P3D
REFRESH-INTERVAL:P3D
CALSCALE:GREGORIAN
BEGIN:VEVENT
DTSTART:20150425T160000Z
DTEND:20150425T200000Z
X-MICROSOFT-CDO-ALLDAYEVENT:FALSE
SUMMARY:Jane Iredale Country Weekend Event
DESCRIPTION:Jane Iredale Mineral Makeup Representative and Makeup artist will be on hand to preview the spring collection of mineral makeup. FREE consultation.
X-ALT-DESC;FMTTYPE=text/html:Jane Iredale Mineral Makeup Representative and Makeup artist will be on hand to preview the spring collection of mineral makeup. FREE consultation.
LOCATION:BodySense 2226 Ridge Crest Circle Hiawassee\, GA
UID:e.256.39922
SEQUENCE:3
DTSTAMP:20260423T200208Z
URL:https://members.visitblairsvillega.com/events/details/jane-iredale-country-weekend-event-04-25-2015-39922
END:VEVENT

END:VCALENDAR
