BEGIN:VCALENDAR
VERSION:2.0
PRODID:-//ChamberMaster//Event Calendar 2.0//EN
METHOD:PUBLISH
X-PUBLISHED-TTL:P3D
REFRESH-INTERVAL:P3D
CALSCALE:GREGORIAN
BEGIN:VEVENT
DTSTART;VALUE=DATE:20160209
DTEND;VALUE=DATE:20160210
TRANSP:TRANSPARENT
X-MICROSOFT-CDO-ALLDAYEVENT:TRUE
SUMMARY:Jeans for Justice & Wear Orange Day
DESCRIPTION:Join S.A.F.E. in bringing awareness to Teen Dating Violence Wear Orange Day! Wear Orange Day is a national day of awareness where we encourage everyone to wear orange in honor of Teen DV Month.  For $1 enjoy wearing jeans at work and wear orange to show your support to start the conversation with a teen. \n\n \n\nAll proceeds from the sale will support S.A.F.E.'s mission to provide support\, advocacy\, and emergency shelter for victims of Domestic Abuse\, Child Abuse\, and Sexual Abuse\, regardless of gender and to heighten community awareness of such abuse in Towns and Union counties.
X-ALT-DESC;FMTTYPE=text/html:<span style="font-size:14px\;"><span style="font-family: calibri light\,sans-serif\;">Join S.A.F.E. in bringing awareness to Teen Dating Violence <strong>Wear Orange Day! </strong></span><span style="background: white none repeat scroll 0% 0%\;"><span style="font-family: calibri light\,sans-serif\;"><span style="color: rgb(28\, 28\, 28)\;">Wear Orange Day&nbsp\;is a national day of awareness where we encourage everyone&nbsp\;to wear orange in honor of Teen DV Month. &nbsp\;</span></span></span><strong><span style="font-family: calibri light\,sans-serif\;">For $1 enjoy wearing jeans</span></strong><span style="font-family: calibri light\,sans-serif\;"> at work and <strong>wear orange</strong> to show your support to start the conversation with a teen. </span><br />\n&nbsp\;<br />\n<span style="background: white none repeat scroll 0% 0%\;"><span style="color: rgb(28\, 28\, 28)\;"><span style="font-family: calibri\;">All proceeds from the sale will support S.A.F.E.&rsquo\;s mission to provide support\, advocacy\, and emergency shelter for victims of Domestic Abuse\, Child Abuse\, and Sexual Abuse\, regardless of gender and to heighten community awareness of such abuse in Towns and Union counties.</span></span></span></span><br />\n&nbsp\;
LOCATION:
UID:e.256.47441
SEQUENCE:3
DTSTAMP:20260421T040308Z
URL:https://members.visitblairsvillega.com/events/details/jeans-for-justice-wear-orange-day-02-09-2016-47441
END:VEVENT

END:VCALENDAR
