BEGIN:VCALENDAR
VERSION:2.0
PRODID:-//ChamberMaster//Event Calendar 2.0//EN
METHOD:PUBLISH
X-PUBLISHED-TTL:P3D
REFRESH-INTERVAL:P3D
CALSCALE:GREGORIAN
BEGIN:VEVENT
DTSTART:20161007T230000Z
DTEND:20161008T020000Z
X-MICROSOFT-CDO-ALLDAYEVENT:FALSE
SUMMARY:Jeff Bates LIVE In Concert Featuring Craig Collins at Brasstown Valley Resort "Sunset Pavilion" in Young Harris
DESCRIPTION:Get Ready to Enjoy some Country Music!!!\n\nLegend Jeff Bates Live in Concert featuring Craig Collins at the Sunset Pavilion at Brasstown Valley Resort in Young Harris\, GA.\n\n\n\nPick up your tickets to the Jeff Bates Concert with special Guest Craig Collins... Tickets can be purchased at The Wine Shoppe in Blairsville just off the Square. $40.00 or $350 for a table of ten. Cash bar available. Or call 706.400.8202
X-ALT-DESC;FMTTYPE=text/html:<span style="color:rgb(29\, 33\, 41)\; font-family:helvetica\,arial\,sans-serif\; font-size:14px">Get Ready to Enjoy some Country Music!!!<br />\nLegend Jeff Bates Live in Concert featuring Craig Collins at the Sunset Pavilion at Brasstown Valley Resort in Young Harris\, GA.<br />\n<br />\nPick up your tickets to the Jeff Bates Concert with special Guest Craig Collins... Tickets can be purchased at The Wine Shoppe in Blairsville just off the Square. $40.00 or $350 for a table of ten. Cash bar available. Or call 706.400.8202&nbsp\;</span>
LOCATION:Brasstown Valley Resort "Sunset Pavilion" 6321 Hwy 76 W Young Harris\, GA 30582
UID:e.256.59287
SEQUENCE:3
DTSTAMP:20260420T131840Z
URL:https://members.visitblairsvillega.com/events/details/jeff-bates-live-in-concert-featuring-craig-collins-at-brasstown-valley-resort-sunset-pavilion-in-young-harris-59287
END:VEVENT

END:VCALENDAR
