BEGIN:VCALENDAR
VERSION:2.0
PRODID:-//ChamberMaster//Event Calendar 2.0//EN
METHOD:PUBLISH
X-PUBLISHED-TTL:P3D
REFRESH-INTERVAL:P3D
CALSCALE:GREGORIAN
BEGIN:VEVENT
DTSTART:20151128T150000Z
DTEND:20151128T210000Z
X-MICROSOFT-CDO-ALLDAYEVENT:FALSE
SUMMARY:Jerae's Alpaca farm...Shop Small event
DESCRIPTION:We are participating in the Shop Small Business event. Come meet our alpacas\, feed them treats\, and see items made from their luxurious fleece!!
X-ALT-DESC;FMTTYPE=text/html:We are participating in the Shop Small Business event. Come meet our alpacas\, feed them treats\, and see items made from their luxurious fleece!!
LOCATION:Jerae's Unity Alpacas 1338 Henson Rd Blairsville\, GA
UID:e.256.45117
SEQUENCE:3
DTSTAMP:20260423T085523Z
URL:https://members.visitblairsvillega.com/events/details/jerae-s-alpaca-farm-shop-small-event-11-28-2015-45117
END:VEVENT

END:VCALENDAR
