BEGIN:VCALENDAR
VERSION:2.0
PRODID:-//ChamberMaster//Event Calendar 2.0//EN
METHOD:PUBLISH
X-PUBLISHED-TTL:P3D
REFRESH-INTERVAL:P3D
CALSCALE:GREGORIAN
BEGIN:VEVENT
DTSTART:20150703T230000Z
DTEND:20150704T003000Z
X-MICROSOFT-CDO-ALLDAYEVENT:FALSE
SUMMARY:Jerry Harmon\, The Smoky Mountain Gypsy
DESCRIPTION:Jerry Harmon\, The Smoky Mountain Gypsy is a Grammy nominee\, authentic Appalachian storyteller\, humorist\, award winning acoustic guitarist\, singer\, songwriter. Ricky Skaggs says "Jerry is as good a performer you will find that has stayed true to his roots and remained unblemished by mainstream commercial music" \n\n\n\nBring your lawn chairs\, seating is limited
X-ALT-DESC;FMTTYPE=text/html:Jerry Harmon\, The Smoky Mountain Gypsy is a Grammy nominee\, authentic Appalachian storyteller\, humorist\, award winning acoustic guitarist\, singer\, songwriter. Ricky Skaggs says &quot\;Jerry is as good a performer you will find that has stayed true to his roots and remained unblemished by mainstream commercial music&quot\;&nbsp\;<br />\n<br />\nBring your lawn chairs\, seating is limited
LOCATION:Long Ridge Campground 180 Jarrard Camp Road Hiawassee\, Ga
UID:e.256.40641
SEQUENCE:3
DTSTAMP:20260423T151523Z
URL:https://members.visitblairsvillega.com/events/details/jerry-harmon-the-smoky-mountain-gypsy-07-03-2015-40641
END:VEVENT

END:VCALENDAR
