BEGIN:VCALENDAR
VERSION:2.0
PRODID:-//ChamberMaster//Event Calendar 2.0//EN
METHOD:PUBLISH
X-PUBLISHED-TTL:P3D
REFRESH-INTERVAL:P3D
CALSCALE:GREGORIAN
BEGIN:VEVENT
DTSTART:20150712T230000Z
DTEND:20150713T010000Z
X-MICROSOFT-CDO-ALLDAYEVENT:FALSE
SUMMARY:Jill Andrews in Concert at Mountain Crossings
DESCRIPTION:Blairsville! Experience Jill Andrews in an intimate setting like you've never seen her before! Just Jill and a guitar\, playing her songs stripped down the way she wrote them. She will play old favorites and debut some new tracks from her upcoming album. \n\n\n\nJill's second full-length solo record is due out this fall\, and she's giving all Push Play attendees the opportunity to hear her favorite songs from the new record before anyone else. She'll "push play" on the album during the show and give guests a sneak peak at the upcoming music. \n\n\n\nBring a bottle of wine\, beer\, or a snack to share! Come enjoy a night of music and mingling in Blairsville at Mountain Crossings\, and have the opportunity to pre-order Jill's album and receive a download of her new single instantly. \n\n\n\nTickets are VERY limited for this intimate experience\, so purchase immediately! \n\n\n\nIf you aren't already familiar with Jill Andrew's music\, you can listen to some at her YouTube channel here: https://www.youtube.com/user/JillAndrewsOfficial
X-ALT-DESC;FMTTYPE=text/html:Blairsville! Experience Jill Andrews in an intimate setting like you&#39\;ve never seen her before! Just Jill and a guitar\, playing her songs stripped down the way she wrote them. She will play old favorites and debut some new tracks from her upcoming album.&nbsp\;<br />\n<br />\nJill&#39\;s second full-length solo record is due out this fall\, and she&#39\;s giving all Push Play attendees the opportunity to hear her favorite songs from the new record before anyone else. She&#39\;ll &quot\;push play&quot\; on the album during the show and give guests a sneak peak at the upcoming music.&nbsp\;<br />\n<br />\nBring a bottle of wine\, beer\, or a snack to share! Come enjoy a night of music and mingling in Blairsville at Mountain Crossings\, and have the opportunity to pre-order Jill&#39\;s album and receive a download of her new single instantly.&nbsp\;<br />\n<br />\nTickets are VERY limited for this intimate experience\, so purchase immediately!&nbsp\;<br />\n<br />\nIf you aren&#39\;t already familiar with Jill Andrew&#39\;s music\, you can listen to some at her YouTube channel here: https://www.youtube.com/user/JillAndrewsOfficial
LOCATION:Mountain Crossings at Walasi-Yi 12471 Gainesville Hwy Blairsville\, GA 30512
UID:e.256.40846
SEQUENCE:3
DTSTAMP:20260423T151635Z
URL:https://members.visitblairsvillega.com/events/details/jill-andrews-in-concert-at-mountain-crossings-07-12-2015-40846
END:VEVENT

END:VCALENDAR
