BEGIN:VCALENDAR
VERSION:2.0
PRODID:-//ChamberMaster//Event Calendar 2.0//EN
METHOD:PUBLISH
X-PUBLISHED-TTL:P3D
REFRESH-INTERVAL:P3D
CALSCALE:GREGORIAN
BEGIN:VEVENT
DTSTART:20150319T230000Z
DTEND:20150320T010000Z
X-MICROSOFT-CDO-ALLDAYEVENT:FALSE
SUMMARY:Jim Lloyd at John C. Campbell Folk School
DESCRIPTION:Jim Lloyd - award winning\, Appalachian banjo\, guitar & singing.
X-ALT-DESC;FMTTYPE=text/html:<div>Jim Lloyd - award winning\, Appalachian banjo\, guitar &amp\; singing.</div>\n
LOCATION:Community Room at John C. Campbell Folk School Brasstown\, NC 28902
UID:e.256.33615
SEQUENCE:3
DTSTAMP:20260423T230054Z
URL:https://members.visitblairsvillega.com/events/details/jim-lloyd-at-john-c-campbell-folk-school-03-19-2015-33615
END:VEVENT

END:VCALENDAR
