BEGIN:VCALENDAR
VERSION:2.0
PRODID:-//ChamberMaster//Event Calendar 2.0//EN
METHOD:PUBLISH
X-PUBLISHED-TTL:P3D
REFRESH-INTERVAL:P3D
CALSCALE:GREGORIAN
BEGIN:VEVENT
DTSTART;VALUE=DATE:20151203
DTEND;VALUE=DATE:20151204
TRANSP:TRANSPARENT
X-MICROSOFT-CDO-ALLDAYEVENT:TRUE
SUMMARY:Jingle Bell Buys
DESCRIPTION:Three days of holiday shopping excitement!\n\nDecember 3\, 4\, & 5th\, 2015\n\nSave 50% off and Buy One Get One Free at your favorite Chamber member businesses!
X-ALT-DESC;FMTTYPE=text/html:<div style="text-align: center\;"><span style="color: rgb(255\, 0\, 0)\;"><em><strong>Three days of holiday shopping excitement!<br />\nDecember 3\, 4\, &amp\; 5th\, 2015</strong></em></span></div>\n\n<div style="text-align: center\;"><span style="color: rgb(255\, 0\, 0)\;">Save 50% off and Buy One Get One Free at your favorite Chamber member businesses!</span><br />\n&nbsp\;</div>\n
LOCATION:At Participating Businesses
UID:e.256.37463
SEQUENCE:3
DTSTAMP:20260421T074002Z
URL:https://members.visitblairsvillega.com/events/details/jingle-bell-buys-12-03-2015-37463
END:VEVENT

END:VCALENDAR
