BEGIN:VCALENDAR
VERSION:2.0
PRODID:-//ChamberMaster//Event Calendar 2.0//EN
METHOD:PUBLISH
X-PUBLISHED-TTL:P3D
REFRESH-INTERVAL:P3D
CALSCALE:GREGORIAN
BEGIN:VEVENT
DTSTART;VALUE=DATE:20131205
DTEND;VALUE=DATE:20131208
TRANSP:TRANSPARENT
X-MICROSOFT-CDO-ALLDAYEVENT:TRUE
SUMMARY:Jingle Bell Buys
DESCRIPTION:Save 50% off and Buy One Get One Free at 30 of your favorite Chamber member businesses!
X-ALT-DESC;FMTTYPE=text/html:<span style="color: rgb(178\, 34\, 34)\;"><span style="font-size: 20px\;"><span style="font-family: arial\;">Save 50% off and Buy One Get One Free at 30 of your favorite Chamber member businesses!</span></span></span>
LOCATION:Participating Businesses include:
UID:e.256.20309
SEQUENCE:3
DTSTAMP:20260424T194144Z
URL:https://members.visitblairsvillega.com/events/details/jingle-bell-buys-12-05-2013-20309
END:VEVENT

END:VCALENDAR
