BEGIN:VCALENDAR
VERSION:2.0
PRODID:-//ChamberMaster//Event Calendar 2.0//EN
METHOD:PUBLISH
X-PUBLISHED-TTL:P3D
REFRESH-INTERVAL:P3D
CALSCALE:GREGORIAN
BEGIN:VEVENT
DTSTART:20140906T233000Z
DTEND:20140907T020000Z
X-MICROSOFT-CDO-ALLDAYEVENT:FALSE
SUMMARY:Jo Dee Messina
DESCRIPTION:Jo Dee Messina fans will soon get what they've been clamoring for as the multi-platinum\, award- winning country singer/songwriter has just announced that her new full-length album will be released Tuesday\, March 18. With its title ME chosen by fans\, the album marks Jo Dee's most personal album to date as she wrote or co-wrote many of the songs and will release it on her own newly established label\, Dreambound Records. For the first time in her career\, Jo Dee is able to boldly do things her own way and pave her own path to success.
X-ALT-DESC;FMTTYPE=text/html:Jo Dee Messina fans will soon get what they&#39\;ve been clamoring for as the multi-platinum\, award- winning country singer/songwriter has just announced that her new full-length album will be released Tuesday\, March 18. With its title ME chosen by fans\, the album marks Jo Dee&#39\;s most personal album to date as she wrote or co-wrote many of the songs and will release it on her own newly established label\, Dreambound Records. For the first time in her career\, Jo Dee is able to boldly do things her own way and pave her own path to success.
LOCATION:Venue: The Smoky Mountain Center for the Performing Arts Smoky Mountain Center for the Performing Arts 1028 Georgia Road Franklin\, NC 28734
UID:e.256.26263
SEQUENCE:3
DTSTAMP:20260424T061126Z
URL:https://members.visitblairsvillega.com/events/details/jo-dee-messina-09-06-2014-26263
END:VEVENT

END:VCALENDAR
