BEGIN:VCALENDAR
VERSION:2.0
PRODID:-//ChamberMaster//Event Calendar 2.0//EN
METHOD:PUBLISH
X-PUBLISHED-TTL:P3D
REFRESH-INTERVAL:P3D
CALSCALE:GREGORIAN
BEGIN:VEVENT
DTSTART:20160805T160000Z
DTEND:20160805T220000Z
X-MICROSOFT-CDO-ALLDAYEVENT:FALSE
SUMMARY:Job Fair at Fatz Cafe
DESCRIPTION:We are looking for quality\, friendly and passionate associates to join the Fatz family in Blairsville! If you are interested in joining our team\, stop on by 206 Highway 515 E any time between noon and 6 pm on August 5th. We are hiring for all positions. We can't wait to meet y'all!
X-ALT-DESC;FMTTYPE=text/html:We are looking for quality\, friendly and passionate associates to join the Fatz family in Blairsville! If you are interested in joining our team\, stop on by 206 Highway 515 E any time between noon and 6 pm on August 5th. We are hiring for all positions. We can&rsquo\;t wait to meet y&rsquo\;all!
LOCATION:Fatz Cafe 206 Highway 515 E Blairsville\, GA 30512
UID:e.256.54004
SEQUENCE:3
DTSTAMP:20260420T164740Z
URL:https://members.visitblairsvillega.com/events/details/job-fair-at-fatz-cafe-08-05-2016-54004
END:VEVENT

END:VCALENDAR
