BEGIN:VCALENDAR
VERSION:2.0
PRODID:-//ChamberMaster//Event Calendar 2.0//EN
METHOD:PUBLISH
X-PUBLISHED-TTL:P3D
REFRESH-INTERVAL:P3D
CALSCALE:GREGORIAN
BEGIN:VEVENT
DTSTART:20160809T160000Z
DTEND:20160809T220000Z
X-MICROSOFT-CDO-ALLDAYEVENT:FALSE
SUMMARY:Job Fair at Fatz Cafe
DESCRIPTION:We are looking for quality\, friendly and passionate associates to join the Fatz family in Blairsville\, GA! If you are interested in joining our team\, stop on by 206 Highway 515 E. any time between noon and 6 pm on Tues 8/9/16. We are hiring for all positions. We can't wait to meet y'all!
X-ALT-DESC;FMTTYPE=text/html:We are looking for quality\, friendly and passionate associates to join the Fatz family in Blairsville\, GA! If you are interested in joining our team\, stop on by 206 Highway 515 E. any time between noon and 6 pm on Tues 8/9/16. We are hiring for all positions. We can&rsquo\;t wait to meet y&rsquo\;all!
LOCATION:Fatz in Blairsville
UID:e.256.54009
SEQUENCE:3
DTSTAMP:20260420T164820Z
URL:https://members.visitblairsvillega.com/events/details/job-fair-at-fatz-cafe-08-09-2016-54009
END:VEVENT

END:VCALENDAR
